BEGIN:VCALENDAR
PRODID:-//github.com/rianjs/ical.net//NONSGML ical.net 4.0//EN
VERSION:2.0
BEGIN:VTIMEZONE
TZID:Eastern Standard Time
X-LIC-LOCATION:America/New_York
BEGIN:STANDARD
DTSTART:20241103T020000
RRULE:FREQ=YEARLY;BYDAY=1SU;BYMONTH=11
TZNAME:EST
TZOFFSETFROM:-0400
TZOFFSETTO:-0500
END:STANDARD
BEGIN:DAYLIGHT
DTSTART:20250309T020000
RRULE:FREQ=YEARLY;BYDAY=2SU;BYMONTH=3
TZNAME:EDT
TZOFFSETFROM:-0500
TZOFFSETTO:-0400
END:DAYLIGHT
END:VTIMEZONE
BEGIN:VEVENT
DESCRIPTION:*for Y-ADR Steering Committee members only
DTEND;TZID=Eastern Standard Time:20260423T120000
DTSTAMP:20260419T164222Z
DTSTART;TZID=Eastern Standard Time:20260423T110000
LOCATION:Zoom link
ORGANIZER;CN=;SENT-BY="mailto:":
SEQUENCE:0
SUMMARY:CPR Institute: CPR Y-ADR Steering Committee Meeting
UID:ee3f393a-07b3-44df-9ba5-0e036a359d9c
END:VEVENT
END:VCALENDAR
