BEGIN:VCALENDAR
PRODID:-//github.com/rianjs/ical.net//NONSGML ical.net 4.0//EN
VERSION:2.0
BEGIN:VTIMEZONE
TZID:Eastern Standard Time
X-LIC-LOCATION:America/New_York
BEGIN:STANDARD
DTSTART:20241103T020000
RRULE:FREQ=YEARLY;BYDAY=1SU;BYMONTH=11
TZNAME:EST
TZOFFSETFROM:-0400
TZOFFSETTO:-0500
END:STANDARD
BEGIN:DAYLIGHT
DTSTART:20250309T020000
RRULE:FREQ=YEARLY;BYDAY=2SU;BYMONTH=3
TZNAME:EDT
TZOFFSETFROM:-0500
TZOFFSETTO:-0400
END:DAYLIGHT
END:VTIMEZONE
BEGIN:VEVENT
DESCRIPTION:*for Y-ADR Steering Committee members only
DTEND;TZID=Eastern Standard Time:20260521T120000
DTSTAMP:20260419T163100Z
DTSTART;TZID=Eastern Standard Time:20260521T110000
LOCATION:Zoom link
ORGANIZER;CN=;SENT-BY="mailto:":
SEQUENCE:0
SUMMARY:CPR Institute: CPR Y-ADR Steering Committee Meeting
UID:abc58851-2d51-4f07-8676-ce12d43714f9
END:VEVENT
END:VCALENDAR
